Workbook

Sheet Kalkulation
A1: Kalkulation Maisernte mit Silierkette / Stalk Buster
B2: Vorgabeleistung pro Std.
A3: Benötigte Maschinen | B3: Fläche | C3: Kubatur | D3: Zeit | E3: Grundtarif | F3: Korrektur* | G3: Anz. | H3: Preis
A4: Häcksler Stalk Buster | B4: 1 | C4: 70 | D4: 1 Std. | E4: 860 | F4: 0 | G4: 1 | H4: =E4*(1+F4)*G4 -> 860
A5: Gebläse | B5: 1 | C5: 70 | D5: 1 Std. | E5: 300 | F5: 0 | G5: 1 | H5: =E5*(1+F5)*G5 -> 300
A6: Wagen | B6: 1 | C6: 70 | D6: 1 Std. | E6: 80 | F6: 0 | G6: 3 | H6: =E6*(1+F6)*G6 -> 240
A7: Traktor mit Fahrer | B7: 1 | C7: 70 | D7: 1 Std. | E7: 100 | F7: 0 | G7: 3 | H7: =E7*(1+F7)*G7 -> 300
G8: Grundtarif Erntekette | H8: =SUM(H4:H7) -> 1700
A10: *Die Korrektur pro Kubatur und oder Zeit erfolgt bei Mehr-/Minderaufwand der Leistung. Annahme 70 m3 pro Ha ( im Silo ) und 100 Aren Leistung pro Std.Achtung!! Für das Nachfüllen der Hochsilos wird pro Einsatz zusätzlich Fr. 100.- verrechnet.
A12: Preisberechnung ( zzgl. 2.6% MwSt. )
A14: Menge | B14: 500 | D14: Errechneter Rabatt | E14: =IF(B14>=500,0.35,IF(B14<=200,B14*0.1/100,0.2+((B14-200)*0.05/100))) -> 0.35 | G14: Fr/Ha. | H14: =H8*(1-E14) -> 1105
A33: Mengenrabatt

Sheet Rabatt
A1: Rabatt
E2: Für Graphik
A3: m3 | B3: Abstufung | C3: Rabatt effektiv | E3: m3 | F3: Abstufung | G3: Rabatt effektiv
A4: 1 | B4: 0.001 | C4: 0.001 | E4: 10 | F4: 0.01 | G4: 0.01
A5: 2 | B5: 0.001 | C5: =B5+B4 -> 0.002 | E5: 20 | F5: 0.01 | G5: =G4+F5 -> 0.02
A6: 3 | B6: 0.001 | C6: =C5+B6 -> 0.003 | E6: 30 | F6: 0.01 | G6: =G5+F6 -> 0.03
A7: 4 | B7: 0.001 | C7: =C6+B7 -> 0.004 | E7: 40 | F7: 0.01 | G7: =G6+F7 -> 0.04
A8: 5 | B8: 0.001 | C8: =C7+B8 -> 0.005 | E8: 50 | F8: 0.01 | G8: =G7+F8 -> 0.05
A9: 6 | B9: 0.001 | C9: =C8+B9 -> 0.006 | E9: 60 | F9: 0.01 | G9: =G8+F9 -> 0.06
A10: 7 | B10: 0.001 | C10: =C9+B10 -> 0.007 | E10: 70 | F10: 0.01 | G10: =G9+F10 -> 0.07
A11: 8 | B11: 0.001 | C11: =C10+B11 -> 0.008 | E11: 80 | F11: 0.01 | G11: =G10+F11 -> 0.08
A12: 9 | B12: 0.001 | C12: =C11+B12 -> 0.009 | E12: 90 | F12: 0.01 | G12: =G11+F12 -> 0.09
A13: 10 | B13: 0.001 | C13: =C12+B13 -> 0.01 | E13: 100 | F13: 0.01 | G13: =G12+F13 -> 0.1
A14: 11 | B14: 0.001 | C14: =C13+B14 -> 0.011 | E14: 110 | F14: 0.01 | G14: =G13+F14 -> 0.11
A15: 12 | B15: 0.001 | C15: =C14+B15 -> 0.012 | E15: 120 | F15: 0.01 | G15: =G14+F15 -> 0.12
A16: 13 | B16: 0.001 | C16: =C15+B16 -> 0.013 | E16: 130 | F16: 0.01 | G16: =G15+F16 -> 0.13
A17: 14 | B17: 0.001 | C17: =C16+B17 -> 0.014 | E17: 140 | F17: 0.01 | G17: =G16+F17 -> 0.14
... A53: 50 | B53: 0.001 | C53: =C52+B53 -> 0.05 | E53: 500 | F53: 0.005 | G53: =G52+F53 -> 0.35
A54: 51 | B54: 0.001 | C54: =C53+B54 -> 0.051
A55: 52 | B55: 0.001 | C55: =C54+B55 -> 0.052
A56: 53 | B56: 0.001 | C56: =C55+B56 -> 0.053
A57: 54 | B57: 0.001 | C57: =C56+B57 -> 0.054
A58: 55 | B58: 0.001 | C58: =C57+B58 -> 0.055
A59: 56 | B59: 0.001 | C59: =C58+B59 -> 0.056
A60: 57 | B60: 0.001 | C60: =C59+B60 -> 0.057
A61: 58 | B61: 0.001 | C61: =C60+B61 -> 0.058
A62: 59 | B62: 0.001 | C62: =C61+B62 -> 0.059
A63: 60 | B63: 0.001 | C63: =C62+B63 -> 0.06
A64: 61 | B64: 0.001 | C64: =C63+B64 -> 0.061
A65: 62 | B65: 0.001 | C65: =C64+B65 -> 0.062
... A503: 500 | B503: 0.0005 | C503: =C502+B503 -> 0.35

Sheet Preistabelle
A1: Nur für Graphik | H1: Preis
A2: Menge | B2: 5 | D2: Errechneter Rabatt | E2: =IF(B2<=200,B2*0.1/100,0.2+((B2-200)*0.05/100)) -> 0.005 | G2: Auftragspreis | H2: =Kalkulation!$H$8*(1-E2) -> 1691.5
A3: Menge | B3: =B2+5 -> 10 | D3: Errechneter Rabatt | E3: =IF(B3<=200,B3*0.1/100,0.2+((B3-200)*0.05/100)) -> 0.01 | G3: Auftragspreis | H3: =Kalkulation!$H$8*(1-E3) -> 1683
A4: Menge | B4: =B3+5 -> 15 | D4: Errechneter Rabatt | E4: =IF(B4<=200,B4*0.1/100,0.2+((B4-200)*0.05/100)) -> 0.015 | G4: Auftragspreis | H4: =Kalkulation!$H$8*(1-E4) -> 1674.5
A5: Menge | B5: =B4+5 -> 20 | D5: Errechneter Rabatt | E5: =IF(B5<=200,B5*0.1/100,0.2+((B5-200)*0.05/100)) -> 0.02 | G5: Auftragspreis | H5: =Kalkulation!$H$8*(1-E5) -> 1666
A6: Menge | B6: =B5+5 -> 25 | D6: Errechneter Rabatt | E6: =IF(B6<=200,B6*0.1/100,0.2+((B6-200)*0.05/100)) -> 0.025 | G6: Auftragspreis | H6: =Kalkulation!$H$8*(1-E6) -> 1657.5
A7: Menge | B7: =B6+5 -> 30 | D7: Errechneter Rabatt | E7: =IF(B7<=200,B7*0.1/100,0.2+((B7-200)*0.05/100)) -> 0.03 | G7: Auftragspreis | H7: =Kalkulation!$H$8*(1-E7) -> 1649
A8: Menge | B8: =B7+5 -> 35 | D8: Errechneter Rabatt | E8: =IF(B8<=200,B8*0.1/100,0.2+((B8-200)*0.05/100)) -> 0.035 | G8: Auftragspreis | H8: =Kalkulation!$H$8*(1-E8) -> 1640.5
A9: Menge | B9: =B8+5 -> 40 | D9: Errechneter Rabatt | E9: =IF(B9<=200,B9*0.1/100,0.2+((B9-200)*0.05/100)) -> 0.04 | G9: Auftragspreis | H9: =Kalkulation!$H$8*(1-E9) -> 1632
A10: Menge | B10: =B9+5 -> 45 | D10: Errechneter Rabatt | E10: =IF(B10<=200,B10*0.1/100,0.2+((B10-200)*0.05/100)) -> 0.045 | G10: Auftragspreis | H10: =Kalkulation!$H$8*(1-E10) -> 1623.5
A11: Menge | B11: =B10+5 -> 50 | D11: Errechneter Rabatt | E11: =IF(B11<=200,B11*0.1/100,0.2+((B11-200)*0.05/100)) -> 0.05 | G11: Auftragspreis | H11: =Kalkulation!$H$8*(1-E11) -> 1615
A12: Menge | B12: =B11+5 -> 55 | D12: Errechneter Rabatt | E12: =IF(B12<=200,B12*0.1/100,0.2+((B12-200)*0.05/100)) -> 0.055 | G12: Auftragspreis | H12: =Kalkulation!$H$8*(1-E12) -> 1606.5
A13: Menge | B13: =B12+5 -> 60 | D13: Errechneter Rabatt | E13: =IF(B13<=200,B13*0.1/100,0.2+((B13-200)*0.05/100)) -> 0.06 | G13: Auftragspreis | H13: =Kalkulation!$H$8*(1-E13) -> 1598
A14: Menge | B14: =B13+5 -> 65 | D14: Errechneter Rabatt | E14: =IF(B14<=200,B14*0.1/100,0.2+((B14-200)*0.05/100)) -> 0.065 | G14: Auftragspreis | H14: =Kalkulation!$H$8*(1-E14) -> 1589.5
... A101: Menge | B101: =B100+5 -> 500 | D101: Errechneter Rabatt | E101: =IF(B101<=200,B101*0.1/100,0.2+((B101-200)*0.05/100)) -> 0.35 | G101: Auftragspreis | H101: =Kalkulation!$H$8*(1-E101) -> 1105
